BEGIN:VCALENDAR
VERSION:2.0
PRODID:-//Library Market//iCal Export//EN
BEGIN:VEVENT
SUMMARY:Chess Club
UID:14258
DTSTAMP:20260424T065600Z
DTSTART:20261226T200000Z
DTEND:20261226T214500Z
LOCATION:123 Broad St, Middletown, CT 06457, United States
ROOM: The Space
DESCRIPTION:Love chess or just want to learn? All ages and abilities are w
 elcome at our new Russell Library Chess Club. Drop-in, no registration req
 uired.  This event is sponsored by the Friends of the Russell Library. T
 o get all of the Youth &amp; Family Learning department events right into 
 your inbox every other week, sign up for our Children &amp; Teens newslett
 er
URL:https://russelllibrary.librarycalendar.com/event/chess-club-14258
END:VEVENT
END:VCALENDAR
