BEGIN:VCALENDAR
VERSION:2.0
PRODID:-//Library Market//iCal Export//EN
BEGIN:VEVENT
SUMMARY:Fantasy Storytime
UID:14289
DTSTAMP:20260426T033100Z
DTSTART:20260502T140000Z
DTEND:20260502T143000Z
LOCATION:123 Broad St, Middletown, CT 06457, United States
ROOM: Hubbard Room
DESCRIPTION:Join us for a fun, family storytime featuring fantasy stories 
 and songs. Costumes are encouraged, but not required. Stories and songs wi
 ll feature characters such as dragons, royalty, mer-creatures, unicorns, a
 nd more!
URL:https://russelllibrary.librarycalendar.com/event/fantasy-storytime-142
 89
END:VEVENT
END:VCALENDAR
